BEGIN:VCALENDAR
VERSION:2.0
PRODID:-//Stonewall 50 Consortium - ECPv5.3.2.1//NONSGML v1.0//EN
CALSCALE:GREGORIAN
METHOD:PUBLISH
X-WR-CALNAME:Stonewall 50 Consortium
X-ORIGINAL-URL:https://stonewall50consortium.org
X-WR-CALDESC:Events for Stonewall 50 Consortium
BEGIN:VTIMEZONE
TZID:UTC
BEGIN:STANDARD
TZOFFSETFROM:+0000
TZOFFSETTO:+0000
TZNAME:UTC
DTSTART:20210101T000000
END:STANDARD
END:VTIMEZONE
BEGIN:VEVENT
DTSTART;VALUE=DATE:20210627
DTEND;VALUE=DATE:20210628
DTSTAMP:20210507T043635
CREATED:20210306T004403Z
LAST-MODIFIED:20210306T004403Z
UID:4544-1624752000-1624838399@stonewall50consortium.org
SUMMARY:Third Annual Queer Liberation March
DESCRIPTION:Reclaim Pride Coaltion
URL:https://stonewall50consortium.org/event/third-annual-queer-liberation-march/
END:VEVENT
BEGIN:VEVENT
DTSTART;VALUE=DATE:20210627
DTEND;VALUE=DATE:20210628
DTSTAMP:20210507T043635
CREATED:20210322T153523Z
LAST-MODIFIED:20210322T153523Z
UID:4554-1624752000-1624838399@stonewall50consortium.org
SUMMARY:NYC Pride March: The Fight Continues!
DESCRIPTION:Heritage of Pride
URL:https://stonewall50consortium.org/event/nyc-pride-march-the-fight-continues/
END:VEVENT
END:VCALENDAR