BEGIN:VCALENDAR
VERSION:2.0
PRODID:-//Stonewall 50 Consortium - ECPv5.3.2.1//NONSGML v1.0//EN
CALSCALE:GREGORIAN
METHOD:PUBLISH
X-WR-CALNAME:Stonewall 50 Consortium
X-ORIGINAL-URL:https://stonewall50consortium.org
X-WR-CALDESC:Events for Stonewall 50 Consortium
BEGIN:VTIMEZONE
TZID:UTC
BEGIN:STANDARD
TZOFFSETFROM:+0000
TZOFFSETTO:+0000
TZNAME:UTC
DTSTART:20210101T000000
END:STANDARD
END:VTIMEZONE
BEGIN:VEVENT
DTSTART;VALUE=DATE:20210622
DTEND;VALUE=DATE:20210627
DTSTAMP:20210507T043556
CREATED:20210322T153116Z
LAST-MODIFIED:20210322T153116Z
UID:4552-1624320000-1624751999@stonewall50consortium.org
SUMMARY:2021 Criminal Queerness Festival
DESCRIPTION:National Queer Theater
URL:https://stonewall50consortium.org/event/2021-criminal-queerness-festival/
END:VEVENT
END:VCALENDAR