BEGIN:VCALENDAR
VERSION:2.0
PRODID:-//Stonewall 50 Consortium - ECPv5.3.2.1//NONSGML v1.0//EN
CALSCALE:GREGORIAN
METHOD:PUBLISH
X-WR-CALNAME:Stonewall 50 Consortium
X-ORIGINAL-URL:https://stonewall50consortium.org
X-WR-CALDESC:Events for Stonewall 50 Consortium
BEGIN:VTIMEZONE
TZID:UTC
BEGIN:STANDARD
TZOFFSETFROM:+0000
TZOFFSETTO:+0000
TZNAME:UTC
DTSTART:20210101T000000
END:STANDARD
END:VTIMEZONE
BEGIN:VEVENT
DTSTART;TZID=UTC:20210601T190000
DTEND;TZID=UTC:20210601T190000
DTSTAMP:20210709T115008
CREATED:20210506T181156Z
LAST-MODIFIED:20210506T184156Z
UID:4588-1622574000-1622574000@stonewall50consortium.org
SUMMARY:The 33rd Annual Lambda Literary Awards — Virtual Ceremony
DESCRIPTION:Lambda Literary
URL:https://stonewall50consortium.org/event/the-33rd-annual-lambda-literary-awards-virtual-ceremony/
LOCATION:Online
END:VEVENT
END:VCALENDAR