BEGIN:VCALENDAR
VERSION:2.0
PRODID:-//Stonewall 50 Consortium - ECPv5.3.2.1//NONSGML v1.0//EN
CALSCALE:GREGORIAN
METHOD:PUBLISH
X-WR-CALNAME:Stonewall 50 Consortium
X-ORIGINAL-URL:https://stonewall50consortium.org
X-WR-CALDESC:Events for Stonewall 50 Consortium
BEGIN:VTIMEZONE
TZID:UTC
BEGIN:STANDARD
TZOFFSETFROM:+0000
TZOFFSETTO:+0000
TZNAME:UTC
DTSTART:20210101T000000
END:STANDARD
END:VTIMEZONE
BEGIN:VEVENT
DTSTART;TZID=UTC:20210225T190000
DTEND;TZID=UTC:20210225T190000
DTSTAMP:20210507T043407
CREATED:20210224T173930Z
LAST-MODIFIED:20210224T173930Z
UID:4534-1614279600-1614279600@stonewall50consortium.org
SUMMARY:LGBTQ Movie Night: "Brother Outsider: The Life of Bayard Rustin" — Screening and Q&A
DESCRIPTION:NewFest\, Trinity Church Wall Street
URL:https://stonewall50consortium.org/event/lgbtq-movie-night-brother-outsider-the-life-of-bayard-rustin-screening-and-qa/
LOCATION:Online
END:VEVENT
END:VCALENDAR