BEGIN:VCALENDAR
VERSION:2.0
PRODID:-//Stonewall 50 Consortium - ECPv5.3.2.1//NONSGML v1.0//EN
CALSCALE:GREGORIAN
METHOD:PUBLISH
X-WR-CALNAME:Stonewall 50 Consortium
X-ORIGINAL-URL:https://stonewall50consortium.org
X-WR-CALDESC:Events for Stonewall 50 Consortium
BEGIN:VTIMEZONE
TZID:UTC
BEGIN:STANDARD
TZOFFSETFROM:+0000
TZOFFSETTO:+0000
TZNAME:UTC
DTSTART:20210101T000000
END:STANDARD
END:VTIMEZONE
BEGIN:VEVENT
DTSTART;TZID=UTC:20210211T183000
DTEND;TZID=UTC:20210211T183000
DTSTAMP:20210507T043358
CREATED:20210121T151154Z
LAST-MODIFIED:20210121T151154Z
UID:4504-1613068200-1613068200@stonewall50consortium.org
SUMMARY:Second Tuesday: Bryan Washington in Conversation with Pamela Sneed
DESCRIPTION:The Center
URL:https://stonewall50consortium.org/event/second-tuesday-bryan-washington-in-conversation-with-pamela-sneed/
LOCATION:Online
END:VEVENT
END:VCALENDAR