BEGIN:VCALENDAR
VERSION:2.0
PRODID:-//Stonewall 50 Consortium - ECPv5.3.2.1//NONSGML v1.0//EN
CALSCALE:GREGORIAN
METHOD:PUBLISH
X-WR-CALNAME:Stonewall 50 Consortium
X-ORIGINAL-URL:https://stonewall50consortium.org
X-WR-CALDESC:Events for Stonewall 50 Consortium
BEGIN:VTIMEZONE
TZID:UTC
BEGIN:STANDARD
TZOFFSETFROM:+0000
TZOFFSETTO:+0000
TZNAME:UTC
DTSTART:20190101T000000
END:STANDARD
END:VTIMEZONE
BEGIN:VEVENT
DTSTART;VALUE=DATE:20190905
DTEND;VALUE=DATE:20191014
DTSTAMP:20210724T161206
CREATED:20190801T141643Z
LAST-MODIFIED:20190801T141643Z
UID:3400-1567641600-1571011199@stonewall50consortium.org
SUMMARY:Novenas for a Lost Hospital
DESCRIPTION:Rattlestick Playwrights Theater; performed each day except Tuesdays from September 5 to October 13.
URL:https://stonewall50consortium.org/event/novenas-for-a-lost-hospital/
LOCATION:St. John’s in the Village\, 218 West 11th Street\, New York\, NY\, 10014\, United States
END:VEVENT
END:VCALENDAR