BEGIN:VCALENDAR
VERSION:2.0
PRODID:-//Stonewall 50 Consortium - ECPv5.3.2.1//NONSGML v1.0//EN
CALSCALE:GREGORIAN
METHOD:PUBLISH
X-WR-CALNAME:Stonewall 50 Consortium
X-ORIGINAL-URL:https://stonewall50consortium.org
X-WR-CALDESC:Events for Stonewall 50 Consortium
BEGIN:VTIMEZONE
TZID:UTC
BEGIN:STANDARD
TZOFFSETFROM:+0000
TZOFFSETTO:+0000
TZNAME:UTC
DTSTART:20210101T000000
END:STANDARD
END:VTIMEZONE
BEGIN:VEVENT
DTSTART;TZID=UTC:20210608T180000
DTEND;TZID=UTC:20210608T180000
DTSTAMP:20210709T114912
CREATED:20210526T141039Z
LAST-MODIFIED:20210526T141039Z
UID:4627-1623175200-1623175200@stonewall50consortium.org
SUMMARY:Virtual Panel: Drag as Life and Art in the Village\, 1950s to the Future!
DESCRIPTION:Village Preservation & NYC LGBT Historic Sites Project
URL:https://stonewall50consortium.org/event/virtual-panel-drag-as-life-and-art-in-the-village-1950s-to-the-future/
LOCATION:Online
END:VEVENT
END:VCALENDAR