BEGIN:VCALENDAR
VERSION:2.0
PRODID:-//Stonewall 50 Consortium - ECPv5.3.2.1//NONSGML v1.0//EN
CALSCALE:GREGORIAN
METHOD:PUBLISH
X-WR-CALNAME:Stonewall 50 Consortium
X-ORIGINAL-URL:https://stonewall50consortium.org
X-WR-CALDESC:Events for Stonewall 50 Consortium
BEGIN:VTIMEZONE
TZID:UTC
BEGIN:STANDARD
TZOFFSETFROM:+0000
TZOFFSETTO:+0000
TZNAME:UTC
DTSTART:20190101T000000
END:STANDARD
END:VTIMEZONE
BEGIN:VEVENT
DTSTART;TZID=UTC:20190515T183000
DTEND;TZID=UTC:20190515T183000
DTSTAMP:20210703T090928
CREATED:20190408T184410Z
LAST-MODIFIED:20190408T184410Z
UID:2563-1557945000-1557945000@stonewall50consortium.org
SUMMARY:The Paley Honors: A Gala Tribute to LGBTQ+ Achievements in Television
DESCRIPTION:The Paley Center for Media
URL:https://stonewall50consortium.org/event/the-paley-honors-a-gala-tribute-to-lgbtq-achievements-in-television/
LOCATION:Ziegfeld Ballroom\, 141 West 54th Street\, New York\, NY\, 10019\, United States
END:VEVENT
END:VCALENDAR