BEGIN:VCALENDAR
VERSION:2.0
PRODID:-//Stonewall 50 Consortium - ECPv5.3.2.1//NONSGML v1.0//EN
CALSCALE:GREGORIAN
METHOD:PUBLISH
X-WR-CALNAME:Stonewall 50 Consortium
X-ORIGINAL-URL:https://stonewall50consortium.org
X-WR-CALDESC:Events for Stonewall 50 Consortium
BEGIN:VTIMEZONE
TZID:UTC
BEGIN:STANDARD
TZOFFSETFROM:+0000
TZOFFSETTO:+0000
TZNAME:UTC
DTSTART:20190101T000000
END:STANDARD
END:VTIMEZONE
BEGIN:VEVENT
DTSTART;TZID=UTC:20190416T140000
DTEND;TZID=UTC:20190416T140000
DTSTAMP:20210424T112858
CREATED:20190410T213716Z
LAST-MODIFIED:20190410T213716Z
UID:2597-1555423200-1555423200@stonewall50consortium.org
SUMMARY:The LGBTQ Movement at a Crossroads:  A Conversation Between the Generations
DESCRIPTION:Roosevelt House Public Policy Institute at Hunter College
URL:https://stonewall50consortium.org/event/the-lgbtq-movement-at-a-crossroads-a-conversation-between-the-generations/
LOCATION:Roosevelt House Public Policy Institute at Hunter College\, 47-49 East 65th Street\, New York\, NY\, 10065\, United States
END:VEVENT
END:VCALENDAR