BEGIN:VCALENDAR
VERSION:2.0
PRODID:-//Stonewall 50 Consortium - ECPv5.3.2.1//NONSGML v1.0//EN
CALSCALE:GREGORIAN
METHOD:PUBLISH
X-WR-CALNAME:Stonewall 50 Consortium
X-ORIGINAL-URL:https://stonewall50consortium.org
X-WR-CALDESC:Events for Stonewall 50 Consortium
BEGIN:VTIMEZONE
TZID:UTC
BEGIN:STANDARD
TZOFFSETFROM:+0000
TZOFFSETTO:+0000
TZNAME:UTC
DTSTART:20200101T000000
END:STANDARD
END:VTIMEZONE
BEGIN:VEVENT
DTSTART;TZID=UTC:20201114T140000
DTEND;TZID=UTC:20201114T213000
DTSTAMP:20210524T233353
CREATED:20201102T145346Z
LAST-MODIFIED:20201102T145346Z
UID:4494-1605362400-1605389400@stonewall50consortium.org
SUMMARY:The 2020 New Masculinities Festival
DESCRIPTION:The Center
URL:https://stonewall50consortium.org/event/the-2020-new-masculinities-festival/
LOCATION:Online
END:VEVENT
END:VCALENDAR