BEGIN:VCALENDAR
VERSION:2.0
PRODID:-//Stonewall 50 Consortium - ECPv5.3.2.1//NONSGML v1.0//EN
CALSCALE:GREGORIAN
METHOD:PUBLISH
X-WR-CALNAME:Stonewall 50 Consortium
X-ORIGINAL-URL:https://stonewall50consortium.org
X-WR-CALDESC:Events for Stonewall 50 Consortium
BEGIN:VTIMEZONE
TZID:UTC
BEGIN:STANDARD
TZOFFSETFROM:+0000
TZOFFSETTO:+0000
TZNAME:UTC
DTSTART:20190101T000000
END:STANDARD
END:VTIMEZONE
BEGIN:VEVENT
DTSTART;TZID=UTC:20190511T120000
DTEND;TZID=UTC:20190511T150000
DTSTAMP:20210617T005655
CREATED:20190427T203349Z
LAST-MODIFIED:20190427T203349Z
UID:2757-1557576000-1557586800@stonewall50consortium.org
SUMMARY:Staten Island PrideFest Resist March
DESCRIPTION:Pride Center of Staten Island
URL:https://stonewall50consortium.org/event/staten-island-pridefest-resist-march/
LOCATION:Midland Beach\, Parking Area 8\, Staten Island\, NY\, 10306\, United States
END:VEVENT
END:VCALENDAR