BEGIN:VCALENDAR
VERSION:2.0
PRODID:-//Stonewall 50 Consortium - ECPv5.3.2.1//NONSGML v1.0//EN
CALSCALE:GREGORIAN
METHOD:PUBLISH
X-WR-CALNAME:Stonewall 50 Consortium
X-ORIGINAL-URL:https://stonewall50consortium.org
X-WR-CALDESC:Events for Stonewall 50 Consortium
BEGIN:VTIMEZONE
TZID:UTC
BEGIN:STANDARD
TZOFFSETFROM:+0000
TZOFFSETTO:+0000
TZNAME:UTC
DTSTART:20200101T000000
END:STANDARD
END:VTIMEZONE
BEGIN:VEVENT
DTSTART;TZID=UTC:20201015T190000
DTEND;TZID=UTC:20201015T203000
DTSTAMP:20210524T151905
CREATED:20201009T234829Z
LAST-MODIFIED:20201009T234829Z
UID:4462-1602788400-1602793800@stonewall50consortium.org
SUMMARY:Sinister Wisdom 118: Forty-Five Years — A Tribute to the Lesbian Herstory Archives
DESCRIPTION:Lesbian Herstory Archives
URL:https://stonewall50consortium.org/event/sinister-wisdom-118-forty-five-years-a-tribute-to-the-lesbian-herstory-archives/
LOCATION:Online
END:VEVENT
END:VCALENDAR