BEGIN:VCALENDAR
VERSION:2.0
PRODID:-//Stonewall 50 Consortium - ECPv5.3.2.1//NONSGML v1.0//EN
CALSCALE:GREGORIAN
METHOD:PUBLISH
X-WR-CALNAME:Stonewall 50 Consortium
X-ORIGINAL-URL:https://stonewall50consortium.org
X-WR-CALDESC:Events for Stonewall 50 Consortium
BEGIN:VTIMEZONE
TZID:UTC
BEGIN:STANDARD
TZOFFSETFROM:+0000
TZOFFSETTO:+0000
TZNAME:UTC
DTSTART:20190101T000000
END:STANDARD
END:VTIMEZONE
BEGIN:VEVENT
DTSTART;VALUE=DATE:20190606
DTEND;VALUE=DATE:20190607
DTSTAMP:20210703T090416
CREATED:20180725T213422Z
LAST-MODIFIED:20180729T140650Z
UID:1178-1559779200-1559865599@stonewall50consortium.org
SUMMARY:Sexuality\, Women\, and Gender (SWaG)
DESCRIPTION:NYC Department of Education
URL:https://stonewall50consortium.org/event/sexuality-women-and-gender-swag/
END:VEVENT
END:VCALENDAR