BEGIN:VCALENDAR
VERSION:2.0
PRODID:-//Stonewall 50 Consortium - ECPv5.3.2.1//NONSGML v1.0//EN
CALSCALE:GREGORIAN
METHOD:PUBLISH
X-WR-CALNAME:Stonewall 50 Consortium
X-ORIGINAL-URL:https://stonewall50consortium.org
X-WR-CALDESC:Events for Stonewall 50 Consortium
BEGIN:VTIMEZONE
TZID:UTC
BEGIN:STANDARD
TZOFFSETFROM:+0000
TZOFFSETTO:+0000
TZNAME:UTC
DTSTART:20200101T000000
END:STANDARD
END:VTIMEZONE
BEGIN:VEVENT
DTSTART;TZID=UTC:20201110T183000
DTEND;TZID=UTC:20201110T183000
DTSTAMP:20210524T233338
CREATED:20201102T144358Z
LAST-MODIFIED:20201102T144358Z
UID:4489-1605033000-1605033000@stonewall50consortium.org
SUMMARY:Second Tuesday: “The Deviant's War” — A Conversation with Eric Cervini and Hugh Ryan
DESCRIPTION:The Center
URL:https://stonewall50consortium.org/event/second-tuesday-the-deviants-war-a-conversation-with-eric-cervini-and-hugh-ryan/
LOCATION:Online
END:VEVENT
END:VCALENDAR