BEGIN:VCALENDAR
VERSION:2.0
PRODID:-//Stonewall 50 Consortium - ECPv5.3.2.1//NONSGML v1.0//EN
CALSCALE:GREGORIAN
METHOD:PUBLISH
X-WR-CALNAME:Stonewall 50 Consortium
X-ORIGINAL-URL:https://stonewall50consortium.org
X-WR-CALDESC:Events for Stonewall 50 Consortium
BEGIN:VTIMEZONE
TZID:UTC
BEGIN:STANDARD
TZOFFSETFROM:+0000
TZOFFSETTO:+0000
TZNAME:UTC
DTSTART:20200101T000000
END:STANDARD
END:VTIMEZONE
BEGIN:VEVENT
DTSTART;TZID=UTC:20200311T190000
DTEND;TZID=UTC:20200311T210000
DTSTAMP:20210628T095553
CREATED:20200211T180155Z
LAST-MODIFIED:20200211T180155Z
UID:4165-1583953200-1583960400@stonewall50consortium.org
SUMMARY:Reclaim Pride Coalition/Queer Liberation March 2020 Meeting
DESCRIPTION:Reclaim Pride Coalition
URL:https://stonewall50consortium.org/event/reclaim-pride-coalition-queer-liberation-march-2020-meeting/2020-03-11/
LOCATION:The People’s Forum\, 320 West 37th Street\, New York\, NY\, 10018\, United States
END:VEVENT
END:VCALENDAR