BEGIN:VCALENDAR
VERSION:2.0
PRODID:-//Stonewall 50 Consortium - ECPv5.3.2.1//NONSGML v1.0//EN
CALSCALE:GREGORIAN
METHOD:PUBLISH
X-WR-CALNAME:Stonewall 50 Consortium
X-ORIGINAL-URL:https://stonewall50consortium.org
X-WR-CALDESC:Events for Stonewall 50 Consortium
BEGIN:VTIMEZONE
TZID:UTC
BEGIN:STANDARD
TZOFFSETFROM:+0000
TZOFFSETTO:+0000
TZNAME:UTC
DTSTART:20190101T000000
END:STANDARD
END:VTIMEZONE
BEGIN:VEVENT
DTSTART;TZID=UTC:20190619T183000
DTEND;TZID=UTC:20190619T210000
DTSTAMP:20211021T191229
CREATED:20190612T175405Z
LAST-MODIFIED:20190612T175405Z
UID:3325-1560969000-1560978000@stonewall50consortium.org
SUMMARY:Rainbows on the Gowanus: Author Talk with Hugh Ryan and Pride Paddle
DESCRIPTION:Gowanus Dredgers Canoe Club
URL:https://stonewall50consortium.org/event/rainbows-on-the-gowanus-author-talk-with-hugh-ryan-and-pride-paddle/
LOCATION:Gowanus Dredgers Canoe Club Boathouse\, 165 2nd Street\, Brooklyn\, NY\, 11231\, United States
END:VEVENT
END:VCALENDAR