BEGIN:VCALENDAR
VERSION:2.0
PRODID:-//Stonewall 50 Consortium - ECPv5.3.2.1//NONSGML v1.0//EN
CALSCALE:GREGORIAN
METHOD:PUBLISH
X-WR-CALNAME:Stonewall 50 Consortium
X-ORIGINAL-URL:https://stonewall50consortium.org
X-WR-CALDESC:Events for Stonewall 50 Consortium
BEGIN:VTIMEZONE
TZID:UTC
BEGIN:STANDARD
TZOFFSETFROM:+0000
TZOFFSETTO:+0000
TZNAME:UTC
DTSTART:20190101T000000
END:STANDARD
END:VTIMEZONE
BEGIN:VEVENT
DTSTART;TZID=UTC:20190603T140000
DTEND;TZID=UTC:20190603T140000
DTSTAMP:20211021T191333
CREATED:20190612T180306Z
LAST-MODIFIED:20190612T180306Z
UID:3331-1559570400-1559570400@stonewall50consortium.org
SUMMARY:PrideMonth Tours: Mapplethorpe Mondays
DESCRIPTION:Guggenheim Museum
URL:https://stonewall50consortium.org/event/pridemonth-tours-mapplethorpe-mondays/2019-06-03/
LOCATION:Guggenheim Museum\, 1071 5th Avenue\, New York\, NY\, 10128\, United States
END:VEVENT
END:VCALENDAR