BEGIN:VCALENDAR
VERSION:2.0
PRODID:-//Stonewall 50 Consortium - ECPv5.3.2.1//NONSGML v1.0//EN
CALSCALE:GREGORIAN
METHOD:PUBLISH
X-WR-CALNAME:Stonewall 50 Consortium
X-ORIGINAL-URL:https://stonewall50consortium.org
X-WR-CALDESC:Events for Stonewall 50 Consortium
BEGIN:VTIMEZONE
TZID:UTC
BEGIN:STANDARD
TZOFFSETFROM:+0000
TZOFFSETTO:+0000
TZNAME:UTC
DTSTART:20200101T000000
END:STANDARD
END:VTIMEZONE
BEGIN:VEVENT
DTSTART;TZID=UTC:20200501T170000
DTEND;TZID=UTC:20200501T190000
DTSTAMP:20210524T233858
CREATED:20200429T213927Z
LAST-MODIFIED:20200429T213927Z
UID:4238-1588352400-1588359600@stonewall50consortium.org
SUMMARY:ONLINE: The Generations Project — Intergenerational Friday Night Social Hours
DESCRIPTION:The Generations Project
URL:https://stonewall50consortium.org/event/online-the-generations-project-intergenerational-friday-night-social-hours/2020-05-01/
LOCATION:Online
END:VEVENT
END:VCALENDAR