BEGIN:VCALENDAR
VERSION:2.0
PRODID:-//Stonewall 50 Consortium - ECPv5.3.2.1//NONSGML v1.0//EN
CALSCALE:GREGORIAN
METHOD:PUBLISH
X-WR-CALNAME:Stonewall 50 Consortium
X-ORIGINAL-URL:https://stonewall50consortium.org
X-WR-CALDESC:Events for Stonewall 50 Consortium
BEGIN:VTIMEZONE
TZID:UTC
BEGIN:STANDARD
TZOFFSETFROM:+0000
TZOFFSETTO:+0000
TZNAME:UTC
DTSTART:20210101T000000
END:STANDARD
END:VTIMEZONE
BEGIN:VEVENT
DTSTART;VALUE=DATE:20210621
DTEND;VALUE=DATE:20210624
DTSTAMP:20210709T114337
CREATED:20210514T154113Z
LAST-MODIFIED:20210604T160731Z
UID:4610-1624233600-1624492799@stonewall50consortium.org
SUMMARY:NYC Pride's Human Rights Conference
DESCRIPTION:Heritage of Pride
URL:https://stonewall50consortium.org/event/nyc-prides-human-rights-conference-2/
LOCATION:Online
END:VEVENT
END:VCALENDAR