BEGIN:VCALENDAR
VERSION:2.0
PRODID:-//Stonewall 50 Consortium - ECPv5.3.2.1//NONSGML v1.0//EN
CALSCALE:GREGORIAN
METHOD:PUBLISH
X-WR-CALNAME:Stonewall 50 Consortium
X-ORIGINAL-URL:https://stonewall50consortium.org
X-WR-CALDESC:Events for Stonewall 50 Consortium
BEGIN:VTIMEZONE
TZID:UTC
BEGIN:STANDARD
TZOFFSETFROM:+0000
TZOFFSETTO:+0000
TZNAME:UTC
DTSTART:20190101T000000
END:STANDARD
END:VTIMEZONE
BEGIN:VEVENT
DTSTART;TZID=UTC:20190621T170000
DTEND;TZID=UTC:20190621T210000
DTSTAMP:20211021T191500
CREATED:20181004T200312Z
LAST-MODIFIED:20181004T200312Z
UID:1655-1561136400-1561150800@stonewall50consortium.org
SUMMARY:MetFridays: PRIDE
DESCRIPTION:The Metropolitan Museum of Art
URL:https://stonewall50consortium.org/event/metfridays-pride/
LOCATION:The Metropolitan Museum of Art\, 1000 Fifth Avenue\, New York\, NY\, 10028\, United States
END:VEVENT
END:VCALENDAR