BEGIN:VCALENDAR
VERSION:2.0
PRODID:-//Stonewall 50 Consortium - ECPv5.3.2.1//NONSGML v1.0//EN
CALSCALE:GREGORIAN
METHOD:PUBLISH
X-WR-CALNAME:Stonewall 50 Consortium
X-ORIGINAL-URL:https://stonewall50consortium.org
X-WR-CALDESC:Events for Stonewall 50 Consortium
BEGIN:VTIMEZONE
TZID:UTC
BEGIN:STANDARD
TZOFFSETFROM:+0000
TZOFFSETTO:+0000
TZNAME:UTC
DTSTART:20200101T000000
END:STANDARD
END:VTIMEZONE
BEGIN:VEVENT
DTSTART;TZID=UTC:20200924T183000
DTEND;TZID=UTC:20200924T183000
DTSTAMP:20210524T151819
CREATED:20200917T191113Z
LAST-MODIFIED:20200917T191113Z
UID:4452-1600972200-1600972200@stonewall50consortium.org
SUMMARY:Inspired by Keith: Celebrating the Life of the Late Keith Haring
DESCRIPTION:The Center
URL:https://stonewall50consortium.org/event/inspired-by-keith-celebrating-the-life-of-the-late-keith-haring/
LOCATION:Online
END:VEVENT
END:VCALENDAR