BEGIN:VCALENDAR
VERSION:2.0
PRODID:-//Stonewall 50 Consortium - ECPv5.3.2.1//NONSGML v1.0//EN
CALSCALE:GREGORIAN
METHOD:PUBLISH
X-WR-CALNAME:Stonewall 50 Consortium
X-ORIGINAL-URL:https://stonewall50consortium.org
X-WR-CALDESC:Events for Stonewall 50 Consortium
BEGIN:VTIMEZONE
TZID:UTC
BEGIN:STANDARD
TZOFFSETFROM:+0000
TZOFFSETTO:+0000
TZNAME:UTC
DTSTART:20200101T000000
END:STANDARD
END:VTIMEZONE
BEGIN:VEVENT
DTSTART;TZID=UTC:20200319T180000
DTEND;TZID=UTC:20200319T213000
DTSTAMP:20210628T095537
CREATED:20200302T174906Z
LAST-MODIFIED:20200302T174906Z
UID:4203-1584640800-1584653400@stonewall50consortium.org
SUMMARY:Hustle Party
DESCRIPTION:Brooklyn Museum
URL:https://stonewall50consortium.org/event/hustle-party/
LOCATION:Brooklyn Museum\, 200 Eastern Parkway\, Brooklyn\, NY\, 11238\, United States
END:VEVENT
END:VCALENDAR