BEGIN:VCALENDAR
VERSION:2.0
PRODID:-//Stonewall 50 Consortium - ECPv5.3.2.1//NONSGML v1.0//EN
CALSCALE:GREGORIAN
METHOD:PUBLISH
X-WR-CALNAME:Stonewall 50 Consortium
X-ORIGINAL-URL:https://stonewall50consortium.org
X-WR-CALDESC:Events for Stonewall 50 Consortium
BEGIN:VTIMEZONE
TZID:UTC
BEGIN:STANDARD
TZOFFSETFROM:+0000
TZOFFSETTO:+0000
TZNAME:UTC
DTSTART:20190101T000000
END:STANDARD
END:VTIMEZONE
BEGIN:VEVENT
DTSTART;TZID=UTC:20190502T170000
DTEND;TZID=UTC:20190502T190000
DTSTAMP:20211021T191534
CREATED:20190326T203543Z
LAST-MODIFIED:20190508T214645Z
UID:2523-1556816400-1556823600@stonewall50consortium.org
SUMMARY:HEREart Exhibit Opening: "Dan Halm: Queer As I"
DESCRIPTION:HERE; runs through June 30\, 2019.
URL:https://stonewall50consortium.org/event/hereart-exhibit-opening-dan-halm-queer-as-i/
LOCATION:HERE\, 145 Sixth Avenue\, New York\, NY\, 10013\, United States
END:VEVENT
END:VCALENDAR