BEGIN:VCALENDAR
VERSION:2.0
PRODID:-//Stonewall 50 Consortium - ECPv5.3.2.1//NONSGML v1.0//EN
CALSCALE:GREGORIAN
METHOD:PUBLISH
X-WR-CALNAME:Stonewall 50 Consortium
X-ORIGINAL-URL:https://stonewall50consortium.org
X-WR-CALDESC:Events for Stonewall 50 Consortium
BEGIN:VTIMEZONE
TZID:UTC
BEGIN:STANDARD
TZOFFSETFROM:+0000
TZOFFSETTO:+0000
TZNAME:UTC
DTSTART:20190101T000000
END:STANDARD
END:VTIMEZONE
BEGIN:VEVENT
DTSTART;TZID=UTC:20190616T153000
DTEND;TZID=UTC:20190616T173000
DTSTAMP:20210509T200227
CREATED:20190131T150339Z
LAST-MODIFIED:20190131T150339Z
UID:2126-1560699000-1560706200@stonewall50consortium.org
SUMMARY:Green-Wood Cemetery’s Gay Green-Wood Trolley Tour
DESCRIPTION:Green-Wood Cemetery
URL:https://stonewall50consortium.org/event/green-wood-cemeterys-gay-green-wood-trolley-tour/
LOCATION:Green-Wood Cemetery\, 500 25th Street\, Brooklyn\, NY\, 11232\, United States
END:VEVENT
END:VCALENDAR