BEGIN:VCALENDAR
VERSION:2.0
PRODID:-//Stonewall 50 Consortium - ECPv5.3.2.1//NONSGML v1.0//EN
CALSCALE:GREGORIAN
METHOD:PUBLISH
X-WR-CALNAME:Stonewall 50 Consortium
X-ORIGINAL-URL:https://stonewall50consortium.org
X-WR-CALDESC:Events for Stonewall 50 Consortium
BEGIN:VTIMEZONE
TZID:UTC
BEGIN:STANDARD
TZOFFSETFROM:+0000
TZOFFSETTO:+0000
TZNAME:UTC
DTSTART:20190101T000000
END:STANDARD
END:VTIMEZONE
BEGIN:VEVENT
DTSTART;TZID=UTC:20190620T180000
DTEND;TZID=UTC:20190620T210000
DTSTAMP:20210703T090047
CREATED:20190531T192922Z
LAST-MODIFIED:20190531T192922Z
UID:3243-1561053600-1561064400@stonewall50consortium.org
SUMMARY:Fusion: The New York City Anti-Violence Project's Pride Party
DESCRIPTION:New York City Anti-Violence Project
URL:https://stonewall50consortium.org/event/fusion-the-new-york-city-anti-violence-projects-pride-party/
LOCATION:Hudson Terrace\, 621 West 46th Street\, New York\, NY\, 10036\, United States
END:VEVENT
END:VCALENDAR