BEGIN:VCALENDAR
VERSION:2.0
PRODID:-//Stonewall 50 Consortium - ECPv5.3.2.1//NONSGML v1.0//EN
CALSCALE:GREGORIAN
METHOD:PUBLISH
X-WR-CALNAME:Stonewall 50 Consortium
X-ORIGINAL-URL:https://stonewall50consortium.org
X-WR-CALDESC:Events for Stonewall 50 Consortium
BEGIN:VTIMEZONE
TZID:UTC
BEGIN:STANDARD
TZOFFSETFROM:+0000
TZOFFSETTO:+0000
TZNAME:UTC
DTSTART:20190101T000000
END:STANDARD
END:VTIMEZONE
BEGIN:VEVENT
DTSTART;TZID=UTC:20190523T200000
DTEND;TZID=UTC:20190523T200000
DTSTAMP:20210617T005526
CREATED:20190427T201121Z
LAST-MODIFIED:20190427T201121Z
UID:2745-1558641600-1558641600@stonewall50consortium.org
SUMMARY:“Food For Thought: After Mentorship” with Neil Goldberg and David Antonio Cruz
DESCRIPTION:Queer|Art
URL:https://stonewall50consortium.org/event/food-for-thought-after-mentorship-with-neil-goldberg-and-david-antonio-cruz/
LOCATION:Danspace Project at St. Mark’s Church\, 131 East 10th Street\, New York\, NY\, 10003\, United States
END:VEVENT
END:VCALENDAR