BEGIN:VCALENDAR
VERSION:2.0
PRODID:-//Stonewall 50 Consortium - ECPv5.3.2.1//NONSGML v1.0//EN
CALSCALE:GREGORIAN
METHOD:PUBLISH
X-WR-CALNAME:Stonewall 50 Consortium
X-ORIGINAL-URL:https://stonewall50consortium.org
X-WR-CALDESC:Events for Stonewall 50 Consortium
BEGIN:VTIMEZONE
TZID:UTC
BEGIN:STANDARD
TZOFFSETFROM:+0000
TZOFFSETTO:+0000
TZNAME:UTC
DTSTART:20210101T000000
END:STANDARD
END:VTIMEZONE
BEGIN:VEVENT
DTSTART;VALUE=DATE:20210603
DTEND;VALUE=DATE:20210604
DTSTAMP:20210709T115015
CREATED:20210513T211042Z
LAST-MODIFIED:20210513T211042Z
UID:4604-1622678400-1622764799@stonewall50consortium.org
SUMMARY:Fifth Annual "Love Rocks NYC" Benefit Concert (Live & Online)
DESCRIPTION:God’s Love We Deliver
URL:https://stonewall50consortium.org/event/fifth-annual-love-rocks-nyc-benefit-concert-live-online/
LOCATION:Beacon Theatre\, 2124 Broadway\, New York\, NY\, 10023\, United States
END:VEVENT
END:VCALENDAR