BEGIN:VCALENDAR
VERSION:2.0
PRODID:-//Stonewall 50 Consortium - ECPv5.3.2.1//NONSGML v1.0//EN
CALSCALE:GREGORIAN
METHOD:PUBLISH
X-WR-CALNAME:Stonewall 50 Consortium
X-ORIGINAL-URL:https://stonewall50consortium.org
X-WR-CALDESC:Events for Stonewall 50 Consortium
BEGIN:VTIMEZONE
TZID:UTC
BEGIN:STANDARD
TZOFFSETFROM:+0000
TZOFFSETTO:+0000
TZNAME:UTC
DTSTART:20200101T000000
END:STANDARD
END:VTIMEZONE
BEGIN:VEVENT
DTSTART;VALUE=DATE:20200313
DTEND;VALUE=DATE:20200314
DTSTAMP:20210628T095609
CREATED:20200130T185516Z
LAST-MODIFIED:20200130T185516Z
UID:4114-1584057600-1584143999@stonewall50consortium.org
SUMMARY:Exhibit Opening: "Studio 54: Night Magic"
DESCRIPTION:Brooklyn Museum; exhibit runs through July 5.
URL:https://stonewall50consortium.org/event/exhibit-opening-studio-54-night-magic/
LOCATION:Brooklyn Museum\, 200 Eastern Parkway\, Brooklyn\, NY\, 11238\, United States
END:VEVENT
END:VCALENDAR