BEGIN:VCALENDAR
VERSION:2.0
PRODID:-//Stonewall 50 Consortium - ECPv5.3.2.1//NONSGML v1.0//EN
CALSCALE:GREGORIAN
METHOD:PUBLISH
X-WR-CALNAME:Stonewall 50 Consortium
X-ORIGINAL-URL:https://stonewall50consortium.org
X-WR-CALDESC:Events for Stonewall 50 Consortium
BEGIN:VTIMEZONE
TZID:UTC
BEGIN:STANDARD
TZOFFSETFROM:+0000
TZOFFSETTO:+0000
TZNAME:UTC
DTSTART:20190101T000000
END:STANDARD
END:VTIMEZONE
BEGIN:VEVENT
DTSTART;VALUE=DATE:20190616
DTEND;VALUE=DATE:20190617
DTSTAMP:20210605T222109
CREATED:20190603T184134Z
LAST-MODIFIED:20190603T184134Z
UID:3278-1560643200-1560729599@stonewall50consortium.org
SUMMARY:Este es un lugar de ambiente: Spotlight on Mexico's Queer Scene
DESCRIPTION:Museum of the Moving Image
URL:https://stonewall50consortium.org/event/este-es-un-lugar-de-ambiente-spotlight-on-mexicos-queer-scene/
LOCATION:Museum of the Moving Image\, 36-01 35th Avenue\, Astoria\, NY\, 11106\, United States
END:VEVENT
END:VCALENDAR