BEGIN:VCALENDAR
VERSION:2.0
PRODID:-//Stonewall 50 Consortium - ECPv5.3.2.1//NONSGML v1.0//EN
CALSCALE:GREGORIAN
METHOD:PUBLISH
X-WR-CALNAME:Stonewall 50 Consortium
X-ORIGINAL-URL:https://stonewall50consortium.org
X-WR-CALDESC:Events for Stonewall 50 Consortium
BEGIN:VTIMEZONE
TZID:UTC
BEGIN:STANDARD
TZOFFSETFROM:+0000
TZOFFSETTO:+0000
TZNAME:UTC
DTSTART:20190101T000000
END:STANDARD
END:VTIMEZONE
BEGIN:VEVENT
DTSTART;TZID=UTC:20190605T180000
DTEND;TZID=UTC:20190605T203000
DTSTAMP:20210703T090259
CREATED:20190510T214942Z
LAST-MODIFIED:20190510T215204Z
UID:2933-1559757600-1559766600@stonewall50consortium.org
SUMMARY:Dance Party: LGBTQ Dance Night with One Up Do
DESCRIPTION:Bryant Park Corporation
URL:https://stonewall50consortium.org/event/dance-party-lgbtq-dance-night-with-one-up-do/
LOCATION:Bryant Park\, West 41st Street and 6th Avenue\, New York\, NY\, 10018\, United States
END:VEVENT
END:VCALENDAR