BEGIN:VCALENDAR
VERSION:2.0
PRODID:-//Stonewall 50 Consortium - ECPv5.3.2.1//NONSGML v1.0//EN
CALSCALE:GREGORIAN
METHOD:PUBLISH
X-WR-CALNAME:Stonewall 50 Consortium
X-ORIGINAL-URL:https://stonewall50consortium.org
X-WR-CALDESC:Events for Stonewall 50 Consortium
BEGIN:VTIMEZONE
TZID:UTC
BEGIN:STANDARD
TZOFFSETFROM:+0000
TZOFFSETTO:+0000
TZNAME:UTC
DTSTART:20200101T000000
END:STANDARD
END:VTIMEZONE
BEGIN:VEVENT
DTSTART;TZID=UTC:20201030T160000
DTEND;TZID=UTC:20201030T173000
DTSTAMP:20210524T233255
CREATED:20201019T231528Z
LAST-MODIFIED:20201019T231528Z
UID:4482-1604073600-1604079000@stonewall50consortium.org
SUMMARY:CUNY Pridefest at Queens College
DESCRIPTION:Queens College/CUNY
URL:https://stonewall50consortium.org/event/cuny-pridefest-at-queens-college-2/
LOCATION:Online
END:VEVENT
END:VCALENDAR