BEGIN:VCALENDAR
VERSION:2.0
PRODID:-//Stonewall 50 Consortium - ECPv5.3.2.1//NONSGML v1.0//EN
CALSCALE:GREGORIAN
METHOD:PUBLISH
X-WR-CALNAME:Stonewall 50 Consortium
X-ORIGINAL-URL:https://stonewall50consortium.org
X-WR-CALDESC:Events for Stonewall 50 Consortium
BEGIN:VTIMEZONE
TZID:UTC
BEGIN:STANDARD
TZOFFSETFROM:+0000
TZOFFSETTO:+0000
TZNAME:UTC
DTSTART:20200101T000000
END:STANDARD
END:VTIMEZONE
BEGIN:VEVENT
DTSTART;TZID=UTC:20201006T190000
DTEND;TZID=UTC:20201006T190000
DTSTAMP:20210524T151852
CREATED:20200917T191733Z
LAST-MODIFIED:20200917T191733Z
UID:4457-1602010800-1602010800@stonewall50consortium.org
SUMMARY:Center Reads: “The End of Eddy” by Édouard Louis
DESCRIPTION:The Center
URL:https://stonewall50consortium.org/event/center-reads-the-end-of-eddy-by-edouard-louis/
LOCATION:Online
END:VEVENT
END:VCALENDAR