BEGIN:VCALENDAR
VERSION:2.0
PRODID:-//Stonewall 50 Consortium - ECPv5.3.2.1//NONSGML v1.0//EN
CALSCALE:GREGORIAN
METHOD:PUBLISH
X-WR-CALNAME:Stonewall 50 Consortium
X-ORIGINAL-URL:https://stonewall50consortium.org
X-WR-CALDESC:Events for Stonewall 50 Consortium
BEGIN:VTIMEZONE
TZID:UTC
BEGIN:STANDARD
TZOFFSETFROM:+0000
TZOFFSETTO:+0000
TZNAME:UTC
DTSTART:20200101T000000
END:STANDARD
END:VTIMEZONE
BEGIN:VEVENT
DTSTART;TZID=UTC:20201103T190000
DTEND;TZID=UTC:20201103T190000
DTSTAMP:20210524T233317
CREATED:20201102T143938Z
LAST-MODIFIED:20201102T143938Z
UID:4485-1604430000-1604430000@stonewall50consortium.org
SUMMARY:Center Reads: "Lady Windermere's Fan" by Oscar Wilde
DESCRIPTION:The Center
URL:https://stonewall50consortium.org/event/center-reads-lady-windermeres-fan-by-oscar-wilde/
LOCATION:Online
END:VEVENT
END:VCALENDAR